BEGIN:VCALENDAR
VERSION:2.0
PRODID:-//Conseil syndical Lyon 2025 - ECPv6.15.20//NONSGML v1.0//EN
CALSCALE:GREGORIAN
METHOD:PUBLISH
X-ORIGINAL-URL:https://sep-unsa-education.fr
X-WR-CALDESC:Évènements pour Conseil syndical Lyon 2025
REFRESH-INTERVAL;VALUE=DURATION:PT1H
X-Robots-Tag:noindex
X-PUBLISHED-TTL:PT1H
BEGIN:VTIMEZONE
TZID:Europe/Paris
BEGIN:DAYLIGHT
TZOFFSETFROM:+0100
TZOFFSETTO:+0200
TZNAME:CEST
DTSTART:20240331T010000
END:DAYLIGHT
BEGIN:STANDARD
TZOFFSETFROM:+0200
TZOFFSETTO:+0100
TZNAME:CET
DTSTART:20241027T010000
END:STANDARD
BEGIN:DAYLIGHT
TZOFFSETFROM:+0100
TZOFFSETTO:+0200
TZNAME:CEST
DTSTART:20250330T010000
END:DAYLIGHT
BEGIN:STANDARD
TZOFFSETFROM:+0200
TZOFFSETTO:+0100
TZNAME:CET
DTSTART:20251026T010000
END:STANDARD
BEGIN:DAYLIGHT
TZOFFSETFROM:+0100
TZOFFSETTO:+0200
TZNAME:CEST
DTSTART:20260329T010000
END:DAYLIGHT
BEGIN:STANDARD
TZOFFSETFROM:+0200
TZOFFSETTO:+0100
TZNAME:CET
DTSTART:20261025T010000
END:STANDARD
END:VTIMEZONE
BEGIN:VEVENT
DTSTART;TZID=Europe/Paris:20250929T140000
DTEND;TZID=Europe/Paris:20250929T143000
DTSTAMP:20260421T125415
CREATED:20250710T094205Z
LAST-MODIFIED:20250918T133852Z
UID:615-1759154400-1759156200@sep-unsa-education.fr
SUMMARY:Mot d'accueil
DESCRIPTION:
URL:https://sep-unsa-education.fr/programme2/accueil-echelonne-repas-au-cisl/
LOCATION:CISL\, ETHIC ETAPES – CISL – LYON 103 boulevard des Etats-Unis\, Lyon\, 69008
END:VEVENT
BEGIN:VEVENT
DTSTART;TZID=Europe/Paris:20250929T143000
DTEND;TZID=Europe/Paris:20250929T151500
DTSTAMP:20260421T125415
CREATED:20250718T152128Z
LAST-MODIFIED:20250929T084034Z
UID:753-1759156200-1759158900@sep-unsa-education.fr
SUMMARY:Interconnaissance
DESCRIPTION:
URL:https://sep-unsa-education.fr/programme2/interconnaissance-et-emergence-de-sujets-pour-le-forum-ouvert-du-lendemain/
END:VEVENT
BEGIN:VEVENT
DTSTART;TZID=Europe/Paris:20250929T151500
DTEND;TZID=Europe/Paris:20250929T160000
DTSTAMP:20260421T125415
CREATED:20250929T084214Z
LAST-MODIFIED:20250929T084214Z
UID:1030-1759158900-1759161600@sep-unsa-education.fr
SUMMARY:Emergence de sujets pour le forum ouvert
DESCRIPTION:« Quelles sont les idées\, les questions et les possibilités que je veux explorer pour construire ensemble le sep de demain » \nAccédez au programme du forum
URL:https://sep-unsa-education.fr/programme2/emergence-de-sujets-pour-le-forum-ouvert/
END:VEVENT
BEGIN:VEVENT
DTSTART;TZID=Europe/Paris:20250929T160000
DTEND;TZID=Europe/Paris:20250929T163000
DTSTAMP:20260421T125415
CREATED:20250918T133958Z
LAST-MODIFIED:20250918T134008Z
UID:942-1759161600-1759163400@sep-unsa-education.fr
SUMMARY:Le mot des secrétaires régionaux UNSA et UNSA Éducation
DESCRIPTION:
URL:https://sep-unsa-education.fr/programme2/le-mot-des-secretaires-regionaux-unsa-et-unsa-education/
END:VEVENT
BEGIN:VEVENT
DTSTART;TZID=Europe/Paris:20250929T163000
DTEND;TZID=Europe/Paris:20250929T170000
DTSTAMP:20260421T125415
CREATED:20250718T152203Z
LAST-MODIFIED:20250929T081738Z
UID:755-1759163400-1759165200@sep-unsa-education.fr
SUMMARY:Collation
DESCRIPTION:Inscriptions pour la soirée à la carte \n3 choix possibles : \n\nVisite guidée à pied\nVisite guidée à vélo électrique\nVisite libre\n\nTableau d’inscription dans la grande salle
URL:https://sep-unsa-education.fr/programme2/collation/
END:VEVENT
BEGIN:VEVENT
DTSTART;TZID=Europe/Paris:20250929T170000
DTEND;TZID=Europe/Paris:20250929T173000
DTSTAMP:20260421T125415
CREATED:20250718T152313Z
LAST-MODIFIED:20250919T124023Z
UID:757-1759165200-1759167000@sep-unsa-education.fr
SUMMARY:Conseil syndical extraordinaire
DESCRIPTION: VOTE n°1 : MODIFICATION DU Règlement Intérieur  « transparence financière »
URL:https://sep-unsa-education.fr/programme2/conseil-syndical-extraordinaire/
END:VEVENT
BEGIN:VEVENT
DTSTART;TZID=Europe/Paris:20250929T173000
DTEND;TZID=Europe/Paris:20250929T190000
DTSTAMP:20260421T125415
CREATED:20250718T152412Z
LAST-MODIFIED:20250919T124225Z
UID:759-1759167000-1759172400@sep-unsa-education.fr
SUMMARY:Votes liés aux motions du congrès
DESCRIPTION:17h30 – 18h30 :  Bilan à mi-mandat des motions votées au congrès \n \nVOTES LIES AUX MOTIONS (29/09 – 17h50) \nBilans à mi-mandat des motions votées au congrès – vote pour approbation : \nVOTE n°2 – CCN \nVOTE n°3 – FPE \nVOTE n°4 – Trésorerie \nVOTE n°5 – Vie interne \nVOTE n°6 : Nouvelle motion Communication – vote d’adoption en remplacement de celle adoptée lors du congrès 2023 \nVOTE n°7 : Liste des membres du Secrétariat National (4.2.9 RI) vote de validation \n18h30 – 18h45  : Nouvelle motion communication – VOTE \n18h45 – 19h00  : Liste mise à jour des membres du secrétariat national – VOTE
URL:https://sep-unsa-education.fr/programme2/votes-lies-aux-motions-du-congres/
END:VEVENT
BEGIN:VEVENT
DTSTART;TZID=Europe/Paris:20250929T190000
DTEND;TZID=Europe/Paris:20250929T233000
DTSTAMP:20260421T125415
CREATED:20250718T152512Z
LAST-MODIFIED:20250929T081444Z
UID:761-1759172400-1759188600@sep-unsa-education.fr
SUMMARY:Soirée à la carte
DESCRIPTION:Découverte de l’environnement local et repas \nPour les visites RDV à 20h l’agence ComHic – 7 quai Romain Rolland 69005 Lyon \nPour le repas RDV à 21h30 CHEZ Paul – 11 rue major Martin 69001 Lyon
URL:https://sep-unsa-education.fr/programme2/soiree-a-la-carte/
END:VEVENT
END:VCALENDAR