BEGIN:VCALENDAR
VERSION:2.0
PRODID:-//Conseil syndical Lyon 2025 - ECPv6.15.20//NONSGML v1.0//EN
CALSCALE:GREGORIAN
METHOD:PUBLISH
X-WR-CALNAME:Conseil syndical Lyon 2025
X-ORIGINAL-URL:https://sep-unsa-education.fr
X-WR-CALDESC:Évènements pour Conseil syndical Lyon 2025
REFRESH-INTERVAL;VALUE=DURATION:PT1H
X-Robots-Tag:noindex
X-PUBLISHED-TTL:PT1H
BEGIN:VTIMEZONE
TZID:Europe/Paris
BEGIN:DAYLIGHT
TZOFFSETFROM:+0100
TZOFFSETTO:+0200
TZNAME:CEST
DTSTART:20240331T010000
END:DAYLIGHT
BEGIN:STANDARD
TZOFFSETFROM:+0200
TZOFFSETTO:+0100
TZNAME:CET
DTSTART:20241027T010000
END:STANDARD
BEGIN:DAYLIGHT
TZOFFSETFROM:+0100
TZOFFSETTO:+0200
TZNAME:CEST
DTSTART:20250330T010000
END:DAYLIGHT
BEGIN:STANDARD
TZOFFSETFROM:+0200
TZOFFSETTO:+0100
TZNAME:CET
DTSTART:20251026T010000
END:STANDARD
BEGIN:DAYLIGHT
TZOFFSETFROM:+0100
TZOFFSETTO:+0200
TZNAME:CEST
DTSTART:20260329T010000
END:DAYLIGHT
BEGIN:STANDARD
TZOFFSETFROM:+0200
TZOFFSETTO:+0100
TZNAME:CET
DTSTART:20261025T010000
END:STANDARD
END:VTIMEZONE
BEGIN:VEVENT
DTSTART;TZID=Europe/Paris:20250930T083000
DTEND;TZID=Europe/Paris:20250930T093000
DTSTAMP:20260421T113627
CREATED:20250718T152821Z
LAST-MODIFIED:20250718T152821Z
UID:763-1759221000-1759224600@sep-unsa-education.fr
SUMMARY:Accueil + Starter
DESCRIPTION:
URL:https://sep-unsa-education.fr/programme2/accueil-starter/
END:VEVENT
BEGIN:VEVENT
DTSTART;TZID=Europe/Paris:20250930T093000
DTEND;TZID=Europe/Paris:20250930T103000
DTSTAMP:20260421T113627
CREATED:20250718T152934Z
LAST-MODIFIED:20250919T124314Z
UID:765-1759224600-1759228200@sep-unsa-education.fr
SUMMARY:Votes liés aux statuts et règlement  intérieur
DESCRIPTION:Réécriture des statuts  \nVOTE n°8 : VOTE DE LA RESOLUTION PROPOSEE PAR LA COMMISSION AMENDEMENTS  \nSi non adopté\, vote des 3 amendements initiaux issus des AG : VOTE n°8-a\, 8-b\, 8-c \n+ VOTE n°8-d : Vote des intentions de réécritures autorisant la poursuite des travaux
URL:https://sep-unsa-education.fr/programme2/votes-lies-aux-statuts-et-reglement-interieur/
END:VEVENT
BEGIN:VEVENT
DTSTART;TZID=Europe/Paris:20250930T103000
DTEND;TZID=Europe/Paris:20250930T120000
DTSTAMP:20260421T113627
CREATED:20250718T153121Z
LAST-MODIFIED:20250929T082035Z
UID:767-1759228200-1759233600@sep-unsa-education.fr
SUMMARY:Charte fédérale contre les  violences sexistes et sexuelles
DESCRIPTION:10h30-11h30 : Pause et déambulation sensibilisation contre les violences sexistes et sexuelles \n11h30 – 12h00 : Charte fédérale contre les violences sexistes et sexuelles – VOTE \nVOTE n°9 Charte fédérale contre les violences sexistes et sexuelles – vote de « ratification » pour mise en annexe du RI. 
URL:https://sep-unsa-education.fr/programme2/charte-federale-contre-les-violences-sexistes-et-sexuelles/
END:VEVENT
BEGIN:VEVENT
DTSTART;TZID=Europe/Paris:20250930T120000
DTEND;TZID=Europe/Paris:20250930T133000
DTSTAMP:20260421T113627
CREATED:20250718T153202Z
LAST-MODIFIED:20250718T153202Z
UID:769-1759233600-1759239000@sep-unsa-education.fr
SUMMARY:Repas
DESCRIPTION:
URL:https://sep-unsa-education.fr/programme2/repas/
END:VEVENT
BEGIN:VEVENT
DTSTART;TZID=Europe/Paris:20250930T133000
DTEND;TZID=Europe/Paris:20250930T150000
DTSTAMP:20260421T113627
CREATED:20250718T153243Z
LAST-MODIFIED:20250919T124742Z
UID:771-1759239000-1759244400@sep-unsa-education.fr
SUMMARY:Cotisations
DESCRIPTION:Grille de cotisation\nVOTE n°10 : VOTE DE LA RESOLUTION PROPOSEE PAR LA COMMISSION AMENDEMENTS  \nSi non adopté\, vote des amendements initiaux issus des AG (10-a\, 10-b\, 10-c) \nPuis vote des amendements non résolus par la commission : \nVOTE n°11 : VOTE DE L’AMENDEMENT D’OCCITANIE (À partir de smic (au 1/12/2024 = 1428€) = 8 % du salaire net) \nVOTE n°12 : VOTE DE L’AMENDEMENT D’OCCITANIE (Retraités : forfait à 60 € au lieu de 70€) \nVOTE n°13 : VOTE DE L’AMENDEMENT D’AURA (Étendre la réduction de Primo adhérent sur 3 ans) \nVOTE n°14 : VOTE DE L’AMENDEMENT DE NOUVELLE AQUITAINE (Étendre la réduction de Primo adhérent sur 3 ans) \nVOTE n°15 : VOTE DE L’AMENDEMENT DE PAYS DE LA LOIRE (Prise en compte des situations particulières (chômage… Étudiants/stagiaires) \nVOTE n°16 : VOTE DE L’AMENDEMENT D’ILE DE FRANCE  (Prise en compte des situations particulières (chômage… Étudiants/stagiaires) \nVOTE n°17 : Vote des objectifs de la nouvelle grille
URL:https://sep-unsa-education.fr/programme2/cotisations/
END:VEVENT
BEGIN:VEVENT
DTSTART;TZID=Europe/Paris:20250930T150000
DTEND;TZID=Europe/Paris:20250930T153000
DTSTAMP:20260421T113627
CREATED:20250718T153319Z
LAST-MODIFIED:20250718T153319Z
UID:773-1759244400-1759246200@sep-unsa-education.fr
SUMMARY:Pause
DESCRIPTION:
URL:https://sep-unsa-education.fr/programme2/pause/
END:VEVENT
BEGIN:VEVENT
DTSTART;TZID=Europe/Paris:20250930T153000
DTEND;TZID=Europe/Paris:20250930T173000
DTSTAMP:20260421T113627
CREATED:20250718T153407Z
LAST-MODIFIED:20250929T083733Z
UID:775-1759246200-1759253400@sep-unsa-education.fr
SUMMARY:FORUM OUVERT
DESCRIPTION:FORUM OUVERT  \n« Quelles sont les idées\, les questions et les possibilités que je veux explorer pour construire ensemble le sep de demain » \nAccédez au programme du forum
URL:https://sep-unsa-education.fr/programme2/forum-ouvert/
END:VEVENT
BEGIN:VEVENT
DTSTART;TZID=Europe/Paris:20250930T173000
DTEND;TZID=Europe/Paris:20250930T183000
DTSTAMP:20260421T113627
CREATED:20250718T153511Z
LAST-MODIFIED:20250929T082148Z
UID:777-1759253400-1759257000@sep-unsa-education.fr
SUMMARY:Temps libre et d’échanges informels
DESCRIPTION:L’occasion de profiter des stands\, de l’expo\, de l’espace détente\, visite du mini-site\, finalisation des compte-rendus si besoin
URL:https://sep-unsa-education.fr/programme2/temps-libre-et-dechanges-informels/
END:VEVENT
BEGIN:VEVENT
DTSTART;TZID=Europe/Paris:20250930T183000
DTEND;TZID=Europe/Paris:20250930T193000
DTSTAMP:20260421T113627
CREATED:20250918T134850Z
LAST-MODIFIED:20250918T134850Z
UID:947-1759257000-1759260600@sep-unsa-education.fr
SUMMARY:Echanges d’expériences syndicales
DESCRIPTION:
URL:https://sep-unsa-education.fr/programme2/echanges-dexperiences-syndicales/
END:VEVENT
BEGIN:VEVENT
DTSTART;TZID=Europe/Paris:20250930T193000
DTEND;TZID=Europe/Paris:20250930T233000
DTSTAMP:20260421T113627
CREATED:20250718T153552Z
LAST-MODIFIED:20250718T153552Z
UID:779-1759260600-1759275000@sep-unsa-education.fr
SUMMARY:Repas et soirée cabaret
DESCRIPTION:
URL:https://sep-unsa-education.fr/programme2/repas-et-soiree-cabaret/
END:VEVENT
END:VCALENDAR